BEGIN:VCALENDAR
VERSION:2.0
PRODID:-//wp-events-plugin.com//7.2.3.1//EN
TZID:Europe/London
X-WR-TIMEZONE:Europe/London
BEGIN:VEVENT
UID:71@blackcountryclassiccarclub.co.uk
DTSTART;TZID=Europe/London:20260517T090000
DTEND;TZID=Europe/London:20260517T170000
DTSTAMP:20260422T162833Z
URL:https://blackcountryclassiccarclub.co.uk/events/redditch-motor-show-20
 26/
SUMMARY:Redditch Motor Show 2026
DESCRIPTION:Meet at the Marlbrook Miller and Carter at 9am to travel in con
 voy so that the club cars can be parked together. 462 Birmingham Rd\, Brom
 sgrove B61 0HR\n\nThe Redditch Classic Motor Show 2026 marks the fifth yea
 r of this beloved event\, celebrating the rich history and timeless beauty
  of classic automobiles. Set in the picturesque town of Redditch\, Worcest
 ershire\, this year's show promises to be bigger and better than ever\, at
 tracting car enthusiasts\, collectors\, and families alike.\n\nThe event s
 howcases a stunning array of vintage vehicles\, from iconic classics to ra
 re finds\, and offers a unique opportunity to admire the craftsmanship and
  design of automotive history. Attendees can expect to see a diverse colle
 ction of cars while engaging with passionate owners who share their storie
 s and insights.\n\nIn addition to the impressive display of vehicles\, the
  show will feature a variety of activities\, including live music\, food s
 talls\, and workshops\, making it a fun and educational experience for all
  ages. The Redditch Classic Motor Show 2026 also aims to foster a spirit c
 ommunity among classic car enthusiasts\, encouraging networking and collab
 oration within the automotive world
CATEGORIES:Club Event
LOCATION:Redditch Bandstand\, Church Green\, Redditch\, B97 4DY\, United Ki
 ngdom
GEO:52.307535;-1.94064
X-APPLE-STRUCTURED-LOCATION;VALUE=URI;X-ADDRESS=Church Green\, Redditch\, B
 97 4DY\, United Kingdom;X-APPLE-RADIUS=100;X-TITLE=Redditch Bandstand:geo:
 52.307535,-1.94064
END:VEVENT
BEGIN:VTIMEZONE
TZID:Europe/London
X-LIC-LOCATION:Europe/London
BEGIN:DAYLIGHT
DTSTART:20260329T020000
TZOFFSETFROM:+0000
TZOFFSETTO:+0100
TZNAME:BST
END:DAYLIGHT
END:VTIMEZONE
END:VCALENDAR