BEGIN:VCALENDAR
VERSION:2.0
PRODID:-//wp-events-plugin.com//7.2.3.1//EN
TZID:Europe/London
X-WR-TIMEZONE:Europe/London
BEGIN:VEVENT
UID:72@blackcountryclassiccarclub.co.uk
DTSTART;TZID=Europe/London:20260531T090000
DTEND;TZID=Europe/London:20260531T160000
DTSTAMP:20260422T162814Z
URL:https://blackcountryclassiccarclub.co.uk/events/coleshill-auto-club-da
 y-may-2026/
SUMMARY:Coleshill Auto Club Day - May 2026
DESCRIPTION:Coleshill Auto Club is calling all car clubs for our BIG Auto C
 lub Day out with an array of car clubs from across the UK and beyond comin
 g together.\n\nTamworth\, Statfold Country Park\, Ashby Road\, Tamworth B7
 9 0BU
CATEGORIES:Alternate Event,Club Event
LOCATION:Statfold Country Park\, Ashby Road\, Tamworth\, B79 0BU\, United K
 ingdom
GEO:52.657403;-1.645025
X-APPLE-STRUCTURED-LOCATION;VALUE=URI;X-ADDRESS=Ashby Road\, Tamworth\, B79
  0BU\, United Kingdom;X-APPLE-RADIUS=100;X-TITLE=Statfold Country Park:geo
 :52.657403,-1.645025
END:VEVENT
BEGIN:VTIMEZONE
TZID:Europe/London
X-LIC-LOCATION:Europe/London
BEGIN:DAYLIGHT
DTSTART:20260329T020000
TZOFFSETFROM:+0000
TZOFFSETTO:+0100
TZNAME:BST
END:DAYLIGHT
END:VTIMEZONE
END:VCALENDAR